BEGIN:VCALENDAR
VERSION:2.0
PRODID:-//Bainbridge Island Japanese American Exclusion Memorial - ECPv6.15.13//NONSGML v1.0//EN
CALSCALE:GREGORIAN
METHOD:PUBLISH
X-WR-CALNAME:Bainbridge Island Japanese American Exclusion Memorial
X-ORIGINAL-URL:https://bijaema.org
X-WR-CALDESC:Events for Bainbridge Island Japanese American Exclusion Memorial
REFRESH-INTERVAL;VALUE=DURATION:PT1H
X-Robots-Tag:noindex
X-PUBLISHED-TTL:PT1H
BEGIN:VTIMEZONE
TZID:America/Los_Angeles
BEGIN:DAYLIGHT
TZOFFSETFROM:-0800
TZOFFSETTO:-0700
TZNAME:PDT
DTSTART:20240310T100000
END:DAYLIGHT
BEGIN:STANDARD
TZOFFSETFROM:-0700
TZOFFSETTO:-0800
TZNAME:PST
DTSTART:20241103T090000
END:STANDARD
BEGIN:DAYLIGHT
TZOFFSETFROM:-0800
TZOFFSETTO:-0700
TZNAME:PDT
DTSTART:20250309T100000
END:DAYLIGHT
BEGIN:STANDARD
TZOFFSETFROM:-0700
TZOFFSETTO:-0800
TZNAME:PST
DTSTART:20251102T090000
END:STANDARD
BEGIN:DAYLIGHT
TZOFFSETFROM:-0800
TZOFFSETTO:-0700
TZNAME:PDT
DTSTART:20260308T100000
END:DAYLIGHT
BEGIN:STANDARD
TZOFFSETFROM:-0700
TZOFFSETTO:-0800
TZNAME:PST
DTSTART:20261101T090000
END:STANDARD
END:VTIMEZONE
BEGIN:VEVENT
DTSTART;TZID=America/Los_Angeles:20250111T110000
DTEND;TZID=America/Los_Angeles:20250111T150000
DTSTAMP:20260419T234603
CREATED:20250106T011741Z
LAST-MODIFIED:20250106T011741Z
UID:1182-1736593200-1736607600@bijaema.org
SUMMARY:Bainbridge Island's 35th Annual Mochi Tsuki Festival!
DESCRIPTION:When:\nJanuary 11th\, 2025 from 11 a.m. to 3 p.m. \nWhere:\nWoodward Middle School\, 9125 Sportsman Club Road\, Bainbridge Island \nWhat:\n\nAuthentic mochi steaming over an outdoor fire\nMochi pounding in a traditional usu (stone bowl) with locally-crafted kine (cherry wood mallets)\nForm your own mochi balls…then eat them with shoyu and sugar!\nMusubi for purchase provided by Sushiko\nOrigami folding\nGroup Obon Dance workshop from 12:45 p.m. to 1:45 p.m.\nTaiko drum performances by Seattle Kokon Taiko\, shows at 11:45 a.m. and 2:00 p.m. Reserve your tickets upon entry\, seating is limited.\n\nAdmission is Free. Donations benefit the Bainbridge Island Japanese American Community.
URL:https://bijaema.org/event/bainbridge-islands-35th-annual-mochi-tsuki-festival/
LOCATION:Woodward Middle School\, 9125 Sportsmens Club Rd NE\, Bainbridge Island\, WA\, 98110\, United States
CATEGORIES:Community
ATTACH;FMTTYPE=image/jpeg:https://bijaema.org/wp-content/uploads/2025/01/mochi_pounding-600x400-1.jpg
END:VEVENT
END:VCALENDAR