BEGIN:VCALENDAR
VERSION:2.0
PRODID:-//Bainbridge Island Japanese American Exclusion Memorial - ECPv6.15.13//NONSGML v1.0//EN
CALSCALE:GREGORIAN
METHOD:PUBLISH
X-WR-CALNAME:Bainbridge Island Japanese American Exclusion Memorial
X-ORIGINAL-URL:https://bijaema.org
X-WR-CALDESC:Events for Bainbridge Island Japanese American Exclusion Memorial
REFRESH-INTERVAL;VALUE=DURATION:PT1H
X-Robots-Tag:noindex
X-PUBLISHED-TTL:PT1H
BEGIN:VTIMEZONE
TZID:America/Los_Angeles
BEGIN:DAYLIGHT
TZOFFSETFROM:-0800
TZOFFSETTO:-0700
TZNAME:PDT
DTSTART:20240310T100000
END:DAYLIGHT
BEGIN:STANDARD
TZOFFSETFROM:-0700
TZOFFSETTO:-0800
TZNAME:PST
DTSTART:20241103T090000
END:STANDARD
BEGIN:DAYLIGHT
TZOFFSETFROM:-0800
TZOFFSETTO:-0700
TZNAME:PDT
DTSTART:20250309T100000
END:DAYLIGHT
BEGIN:STANDARD
TZOFFSETFROM:-0700
TZOFFSETTO:-0800
TZNAME:PST
DTSTART:20251102T090000
END:STANDARD
BEGIN:DAYLIGHT
TZOFFSETFROM:-0800
TZOFFSETTO:-0700
TZNAME:PDT
DTSTART:20260308T100000
END:DAYLIGHT
BEGIN:STANDARD
TZOFFSETFROM:-0700
TZOFFSETTO:-0800
TZNAME:PST
DTSTART:20261101T090000
END:STANDARD
END:VTIMEZONE
BEGIN:VEVENT
DTSTART;TZID=America/Los_Angeles:20251005T140000
DTEND;TZID=America/Los_Angeles:20251005T170000
DTSTAMP:20260419T095144
CREATED:20250908T003718Z
LAST-MODIFIED:20250909T200614Z
UID:1500-1759672800-1759683600@bijaema.org
SUMMARY:2025 Civil Liberties Symposium
DESCRIPTION:👉 Reserve your ticket and learn more at bijaema.org/symposium
URL:https://bijaema.org/event/2025-civil-liberties-symposium-the-coram-nobis-cases/
LOCATION:Pocock Legacy Rowing Center\, 301 Shannon Dr SE\, Bainbridge Island\, WA\, 98110\, United States
CATEGORIES:Community
ATTACH;FMTTYPE=image/png:https://bijaema.org/wp-content/uploads/2025/08/g2978-Large-scaled.png
ORGANIZER;CN="BIJAEMA":MAILTO:info@bijaema.org
END:VEVENT
END:VCALENDAR