BEGIN:VCALENDAR
VERSION:2.0
PRODID:-//Bainbridge Island Japanese American Exclusion Memorial - ECPv6.15.13//NONSGML v1.0//EN
CALSCALE:GREGORIAN
METHOD:PUBLISH
X-WR-CALNAME:Bainbridge Island Japanese American Exclusion Memorial
X-ORIGINAL-URL:https://bijaema.org
X-WR-CALDESC:Events for Bainbridge Island Japanese American Exclusion Memorial
REFRESH-INTERVAL;VALUE=DURATION:PT1H
X-Robots-Tag:noindex
X-PUBLISHED-TTL:PT1H
BEGIN:VTIMEZONE
TZID:America/Los_Angeles
BEGIN:DAYLIGHT
TZOFFSETFROM:-0800
TZOFFSETTO:-0700
TZNAME:PDT
DTSTART:20240310T100000
END:DAYLIGHT
BEGIN:STANDARD
TZOFFSETFROM:-0700
TZOFFSETTO:-0800
TZNAME:PST
DTSTART:20241103T090000
END:STANDARD
BEGIN:DAYLIGHT
TZOFFSETFROM:-0800
TZOFFSETTO:-0700
TZNAME:PDT
DTSTART:20250309T100000
END:DAYLIGHT
BEGIN:STANDARD
TZOFFSETFROM:-0700
TZOFFSETTO:-0800
TZNAME:PST
DTSTART:20251102T090000
END:STANDARD
BEGIN:DAYLIGHT
TZOFFSETFROM:-0800
TZOFFSETTO:-0700
TZNAME:PDT
DTSTART:20260308T100000
END:DAYLIGHT
BEGIN:STANDARD
TZOFFSETFROM:-0700
TZOFFSETTO:-0800
TZNAME:PST
DTSTART:20261101T090000
END:STANDARD
END:VTIMEZONE
BEGIN:VEVENT
DTSTART;TZID=America/Los_Angeles:20250502T170000
DTEND;TZID=America/Los_Angeles:20250502T190000
DTSTAMP:20260419T181158
CREATED:20250414T033624Z
LAST-MODIFIED:20250414T034408Z
UID:1310-1746205200-1746212400@bijaema.org
SUMMARY:First Friday: Island Artist Chris Demarest
DESCRIPTION:The days are longer\, the flowers are blooming and we are planting our gardens…..all normal for May.  Our May artist\, Chris Demarest\, reminds us what is not normal with his exhibit titled NIDOTO NAI YONI: “Let It Not Happen Again”.  The exhibit will on display throughout the month of May. \nOpening Reception:Friday\, May 2\, 5:00–7:00 p.m.Library Meeting Room \nFrom the Artist: \n\nOn February 19\, 1942\, President Franklin D. Roosevelt signed into law the forceful removal of all Japanese Americans on the West Coast to concentration camps from California to Arkansas. Two-thirds were U.S. citizens. Here on Bainbridge Island\, 227 residents were taken from their homes. \nIn 2002\, a plaque was placed at the Japanese American Exclusion Memorial with the words: Nidoto Nai Yoni–“Let It Not Happen Again.” With the return of Donald J. Trump to the White House we are\, in fact\, seeing it happen again. \nThese portraits are a statement against the current administration’s attempt to erase our history; we will not forget the contributions of women and people of color in uniform. \nThis exhibit represents a collection of paintings done as part of my World War Two Portrait Tour (2011-2017).
URL:https://bijaema.org/event/first-friday-island-artist-christ-demarest/
LOCATION:Bainbridge Public Library\, 1270 Madison Ave\, Bainbridge Island\, WA\, 98110\, United States
CATEGORIES:Community
ATTACH;FMTTYPE=image/jpeg:https://bijaema.org/wp-content/uploads/2025/04/image3-1.jpg
END:VEVENT
END:VCALENDAR