BEGIN:VCALENDAR
VERSION:2.0
PRODID:-//Bainbridge Island Japanese American Exclusion Memorial - ECPv6.15.13//NONSGML v1.0//EN
CALSCALE:GREGORIAN
METHOD:PUBLISH
X-WR-CALNAME:Bainbridge Island Japanese American Exclusion Memorial
X-ORIGINAL-URL:https://bijaema.org
X-WR-CALDESC:Events for Bainbridge Island Japanese American Exclusion Memorial
REFRESH-INTERVAL;VALUE=DURATION:PT1H
X-Robots-Tag:noindex
X-PUBLISHED-TTL:PT1H
BEGIN:VTIMEZONE
TZID:America/Los_Angeles
BEGIN:DAYLIGHT
TZOFFSETFROM:-0800
TZOFFSETTO:-0700
TZNAME:PDT
DTSTART:20230312T100000
END:DAYLIGHT
BEGIN:STANDARD
TZOFFSETFROM:-0700
TZOFFSETTO:-0800
TZNAME:PST
DTSTART:20231105T090000
END:STANDARD
BEGIN:DAYLIGHT
TZOFFSETFROM:-0800
TZOFFSETTO:-0700
TZNAME:PDT
DTSTART:20240310T100000
END:DAYLIGHT
BEGIN:STANDARD
TZOFFSETFROM:-0700
TZOFFSETTO:-0800
TZNAME:PST
DTSTART:20241103T090000
END:STANDARD
BEGIN:DAYLIGHT
TZOFFSETFROM:-0800
TZOFFSETTO:-0700
TZNAME:PDT
DTSTART:20250309T100000
END:DAYLIGHT
BEGIN:STANDARD
TZOFFSETFROM:-0700
TZOFFSETTO:-0800
TZNAME:PST
DTSTART:20251102T090000
END:STANDARD
END:VTIMEZONE
BEGIN:VEVENT
DTSTART;TZID=America/Los_Angeles:20240804T130000
DTEND;TZID=America/Los_Angeles:20240804T143000
DTSTAMP:20260422T013047
CREATED:20240721T053427Z
LAST-MODIFIED:20240721T053427Z
UID:1018-1722776400-1722781800@bijaema.org
SUMMARY:Celebration of Mia Espiritu's Eagle Scout Project!
DESCRIPTION:BIJAEMA\, Troop #1804\, and the National Park Service will gather in a private celebration of the completion of Mia Espiritu’s Eagle Scout Project! \nDate: August 4\, 2024\nTime: 1:00 p.m.\nLocation: Entrance to the Exclusion Memorial \nWe are thrilled to recognize Mia Espiritu’s hard work and dedication. She has redesigned the aging map and interpretive sign at the entrance to the Exclusion Memorial and will install the new sign in the presence of her troop. We are grateful that she selected the Memorial for a project that will benefit visitors for years to come. Wish her well as we honor this significant achievement.
URL:https://bijaema.org/event/celebration-of-mia-espiritus-eagle-scout-project/
LOCATION:Pritchard Park\, 4192 Eagle Harbor Drive NE\, Bainbridge Island\, WA\, 98110\, United States
CATEGORIES:Community
ATTACH;FMTTYPE=image/jpeg:https://bijaema.org/wp-content/uploads/2024/07/2401_BIJAEMA_Interpretive-Sign_3-1.jpg
ORGANIZER;CN="BIJAEMA":MAILTO:info@bijaema.org
END:VEVENT
END:VCALENDAR