BEGIN:VCALENDAR
VERSION:2.0
PRODID:-//Bainbridge Island Japanese American Exclusion Memorial - ECPv6.15.13//NONSGML v1.0//EN
CALSCALE:GREGORIAN
METHOD:PUBLISH
X-ORIGINAL-URL:https://bijaema.org
X-WR-CALDESC:Events for Bainbridge Island Japanese American Exclusion Memorial
REFRESH-INTERVAL;VALUE=DURATION:PT1H
X-Robots-Tag:noindex
X-PUBLISHED-TTL:PT1H
BEGIN:VTIMEZONE
TZID:America/Los_Angeles
BEGIN:DAYLIGHT
TZOFFSETFROM:-0800
TZOFFSETTO:-0700
TZNAME:PDT
DTSTART:20220313T100000
END:DAYLIGHT
BEGIN:STANDARD
TZOFFSETFROM:-0700
TZOFFSETTO:-0800
TZNAME:PST
DTSTART:20221106T090000
END:STANDARD
BEGIN:DAYLIGHT
TZOFFSETFROM:-0800
TZOFFSETTO:-0700
TZNAME:PDT
DTSTART:20230312T100000
END:DAYLIGHT
BEGIN:STANDARD
TZOFFSETFROM:-0700
TZOFFSETTO:-0800
TZNAME:PST
DTSTART:20231105T090000
END:STANDARD
BEGIN:DAYLIGHT
TZOFFSETFROM:-0800
TZOFFSETTO:-0700
TZNAME:PDT
DTSTART:20240310T100000
END:DAYLIGHT
BEGIN:STANDARD
TZOFFSETFROM:-0700
TZOFFSETTO:-0800
TZNAME:PST
DTSTART:20241103T090000
END:STANDARD
END:VTIMEZONE
BEGIN:VEVENT
DTSTART;TZID=America/Los_Angeles:20230330T110000
DTEND;TZID=America/Los_Angeles:20230330T120000
DTSTAMP:20260422T044718
CREATED:20230711T221555Z
LAST-MODIFIED:20231009T220354Z
UID:64-1680174000-1680177600@bijaema.org
SUMMARY:81st Commemoration of the Exclusion
DESCRIPTION:You are invited to join us as we commemorate the 81st anniversary of the forced removal of Japanese Americans from Bainbridge Island. \nLOCATION: Exclusion Memorial\, 4195 Eagle Harbor Drive NE\, Bainbridge Island\nDATE: March 30\, 2023 Time: 11 am-noon \n**Parking: Drivers may drop off passengers in the Exclusion Memorial bus drop off area – watch for the sign. Drivers may then continue on to the Park and Ride at Bethany Lutheran Church\, 7968 Finch Road NE\, Bainbridge Island to catch a complimentary round trip shuttle. Shuttle service starting at 10 am -11am for the 6 minute ride and 12:30-2:30 p.m. \n**If you are a survivor\, transporting a survivor and/or need disabled parking\, contact Carol Reitz (425-765-9284) carolreitz@msn.com for special arrangements. \nIf you are a survivor\, you and your family (wear your Legacy Pin!) are welcome to attend a complimentary sushi luncheon after the program. Please contact Karen Beierle at 206-714-9887 or Lilly Kodama 206-842-2226 by FRIDAY\, March 25 to let them know who and how many to plan for. Bainbridge Island Museum of Art\, 550 Winslow Way E Phone: (206) 842-4451
URL:https://bijaema.org/event/81st-commemoration-of-the-exclusion/
LOCATION:Pritchard Park\, 4192 Eagle Harbor Drive NE\, Bainbridge Island\, WA\, 98110\, United States
CATEGORIES:Community
ATTACH;FMTTYPE=image/jpeg:https://bijaema.org/wp-content/uploads/2023/07/80th-Commemoration-Cherry-Blossom-1067x600-2.jpg
END:VEVENT
END:VCALENDAR